BEGIN:VCALENDAR
VERSION:2.0
PRODID:-//Arthurs Cleaning Services - ECPv6.15.20//NONSGML v1.0//EN
CALSCALE:GREGORIAN
METHOD:PUBLISH
X-ORIGINAL-URL:https://arthurscleaning.com
X-WR-CALDESC:Events for Arthurs Cleaning Services
REFRESH-INTERVAL;VALUE=DURATION:PT1H
X-Robots-Tag:noindex
X-PUBLISHED-TTL:PT1H
BEGIN:VTIMEZONE
TZID:America/New_York
BEGIN:DAYLIGHT
TZOFFSETFROM:-0500
TZOFFSETTO:-0400
TZNAME:EDT
DTSTART:20210314T070000
END:DAYLIGHT
BEGIN:STANDARD
TZOFFSETFROM:-0400
TZOFFSETTO:-0500
TZNAME:EST
DTSTART:20211107T060000
END:STANDARD
BEGIN:DAYLIGHT
TZOFFSETFROM:-0500
TZOFFSETTO:-0400
TZNAME:EDT
DTSTART:20220313T070000
END:DAYLIGHT
BEGIN:STANDARD
TZOFFSETFROM:-0400
TZOFFSETTO:-0500
TZNAME:EST
DTSTART:20221106T060000
END:STANDARD
BEGIN:DAYLIGHT
TZOFFSETFROM:-0500
TZOFFSETTO:-0400
TZNAME:EDT
DTSTART:20230312T070000
END:DAYLIGHT
BEGIN:STANDARD
TZOFFSETFROM:-0400
TZOFFSETTO:-0500
TZNAME:EST
DTSTART:20231105T060000
END:STANDARD
BEGIN:DAYLIGHT
TZOFFSETFROM:-0500
TZOFFSETTO:-0400
TZNAME:EDT
DTSTART:20240310T070000
END:DAYLIGHT
BEGIN:STANDARD
TZOFFSETFROM:-0400
TZOFFSETTO:-0500
TZNAME:EST
DTSTART:20241103T060000
END:STANDARD
BEGIN:DAYLIGHT
TZOFFSETFROM:-0500
TZOFFSETTO:-0400
TZNAME:EDT
DTSTART:20250309T070000
END:DAYLIGHT
BEGIN:STANDARD
TZOFFSETFROM:-0400
TZOFFSETTO:-0500
TZNAME:EST
DTSTART:20251102T060000
END:STANDARD
BEGIN:DAYLIGHT
TZOFFSETFROM:-0500
TZOFFSETTO:-0400
TZNAME:EDT
DTSTART:20260308T070000
END:DAYLIGHT
BEGIN:STANDARD
TZOFFSETFROM:-0400
TZOFFSETTO:-0500
TZNAME:EST
DTSTART:20261101T060000
END:STANDARD
BEGIN:DAYLIGHT
TZOFFSETFROM:-0500
TZOFFSETTO:-0400
TZNAME:EDT
DTSTART:20270314T070000
END:DAYLIGHT
BEGIN:STANDARD
TZOFFSETFROM:-0400
TZOFFSETTO:-0500
TZNAME:EST
DTSTART:20271107T060000
END:STANDARD
BEGIN:DAYLIGHT
TZOFFSETFROM:-0500
TZOFFSETTO:-0400
TZNAME:EDT
DTSTART:20280312T070000
END:DAYLIGHT
BEGIN:STANDARD
TZOFFSETFROM:-0400
TZOFFSETTO:-0500
TZNAME:EST
DTSTART:20281105T060000
END:STANDARD
BEGIN:DAYLIGHT
TZOFFSETFROM:-0500
TZOFFSETTO:-0400
TZNAME:EDT
DTSTART:20290311T070000
END:DAYLIGHT
BEGIN:STANDARD
TZOFFSETFROM:-0400
TZOFFSETTO:-0500
TZNAME:EST
DTSTART:20291104T060000
END:STANDARD
END:VTIMEZONE
BEGIN:VEVENT
DTSTART;TZID=America/New_York:20221003T040000
DTEND;TZID=America/New_York:20271003T050000
DTSTAMP:20260423T195937
CREATED:20140731T043656Z
LAST-MODIFIED:20140731T043656Z
UID:8180-1664769600-1822539600@arthurscleaning.com
SUMMARY:Picture Hanging Workshop
DESCRIPTION:Event description\n\n	\n	\n	\n\n\n\n	\n\n\n			\n	\n	\n		\n	Clany cleaning team are excited to launch the first of our summer DIY Workshops! \nOur first event is a workshop on shelves and picture hanging\, and we need a great crowd join us  to learn a thing or two at Clany HQ. With instruction from one of the professional handymen on the Clany platform\, folks will learn about drill bits and fixings\, avoiding power cables\, hanging pictures and putting up floating shelves. \n\n	\n\n\n\n			\n	\n	\n		\n	Programme Structure : \n◎ How to use power tools safely\n◎ How to drill into plasterboard & drywall to hang pictures\n◎ How to drill into masonry and brickof intellectual property
URL:https://arthurscleaning.com/classes/picture-hanging-workshop/
LOCATION:New York Ardesia Bar\, Lexington Avenue\, New York\, NY\, 10022\, United States
CATEGORIES:Cleaning,Design,Engineering
ATTACH;FMTTYPE=image/jpeg:https://arthurscleaning.com/wp-content/uploads/2010/04/photo-10.jpg
ORGANIZER;CN="Michael & Ashley":MAILTO:junk@vamtam.com
END:VEVENT
BEGIN:VEVENT
DTSTART;TZID=America/New_York:20221101T030000
DTEND;TZID=America/New_York:20281031T070000
DTSTAMP:20260423T195937
CREATED:20140731T043401Z
LAST-MODIFIED:20140731T043401Z
UID:9293-1667271600-1856588400@arthurscleaning.com
SUMMARY:Clany at TechCrunch Disrupt NY
DESCRIPTION:Event description\n\n	\n	\n	\n\n\n\n	\n\n\n			\n	\n	\n		\n	Clany cleaning team are excited to launch the first of our summer DIY Workshops! \nOur first event is a workshop on shelves and picture hanging\, and we need a great crowd join us  to learn a thing or two at Clany HQ. With instruction from one of the professional handymen on the Clany platform\, folks will learn about drill bits and fixings\, avoiding power cables\, hanging pictures and putting up floating shelves. \n\n	\n\n\n\n			\n	\n	\n		\n	Programme Structure : \n◎ How to use power tools safely\n◎ How to drill into plasterboard & drywall to hang pictures\n◎ How to drill into masonry and brickof intellectual property
URL:https://arthurscleaning.com/classes/clany-at-techcrunch-disrupt-ny/
LOCATION:New York Ardesia Bar\, Lexington Avenue\, New York\, NY\, 10022\, United States
CATEGORIES:Cleaning,Engineering,Workshops
ATTACH;FMTTYPE=image/jpeg:https://arthurscleaning.com/wp-content/uploads/2017/04/photo-1.jpg
ORGANIZER;CN="Michael":MAILTO:junk@vamtam.com
END:VEVENT
BEGIN:VEVENT
DTSTART;TZID=America/New_York:20221106T030000
DTEND;TZID=America/New_York:20280901T130000
DTSTAMP:20260423T195937
CREATED:20140731T043116Z
LAST-MODIFIED:20140731T043116Z
UID:9209-1667703600-1851426000@arthurscleaning.com
SUMMARY:Clany at Web Summit
DESCRIPTION:Event description\n\n	\n	\n	\n\n\n\n	\n\n\n			\n	\n	\n		\n	Clany cleaning team are excited to launch the first of our summer DIY Workshops! \nOur first event is a workshop on shelves and picture hanging\, and we need a great crowd join us  to learn a thing or two at Clany HQ. With instruction from one of the professional handymen on the Clany platform\, folks will learn about drill bits and fixings\, avoiding power cables\, hanging pictures and putting up floating shelves. \n\n	\n\n\n\n			\n	\n	\n		\n	Programme Structure : \n◎ How to use power tools safely\n◎ How to drill into plasterboard & drywall to hang pictures\n◎ How to drill into masonry and brickof intellectual property
URL:https://arthurscleaning.com/classes/clany-at-web-summit/
LOCATION:New York Ardesia Bar\, Lexington Avenue\, New York\, NY\, 10022\, United States
CATEGORIES:Cleaning,Engineering,Management,Workshops
ATTACH;FMTTYPE=image/jpeg:https://arthurscleaning.com/wp-content/uploads/2010/04/photo-4.jpg
ORGANIZER;CN="Michael":MAILTO:junk@vamtam.com
END:VEVENT
BEGIN:VEVENT
DTSTART;VALUE=DATE:20221108
DTEND;VALUE=DATE:20270311
DTSTAMP:20260423T195937
CREATED:20140731T043656Z
LAST-MODIFIED:20140731T043656Z
UID:8178-1667934000-1804705199@arthurscleaning.com
SUMMARY:Common Home Maintenance Myths
DESCRIPTION:Event description\n\n	\n	\n	\n\n\n\n	\n\n\n			\n	\n	\n		\n	Clany cleaning team are excited to launch the first of our summer DIY Workshops! \nOur first event is a workshop on shelves and picture hanging\, and we need a great crowd join us  to learn a thing or two at Clany HQ. With instruction from one of the professional handymen on the Clany platform\, folks will learn about drill bits and fixings\, avoiding power cables\, hanging pictures and putting up floating shelves. \n\n	\n\n\n\n			\n	\n	\n		\n	Programme Structure : \n◎ How to use power tools safely\n◎ How to drill into plasterboard & drywall to hang pictures\n◎ How to drill into masonry and brickof intellectual property
URL:https://arthurscleaning.com/classes/common-home-maintenance-myths/
LOCATION:New York Ardesia Bar\, Lexington Avenue\, New York\, NY\, 10022\, United States
CATEGORIES:Cleaning,Commercial,Design,Engineering
ATTACH;FMTTYPE=image/jpeg:https://arthurscleaning.com/wp-content/uploads/2010/04/photo-16.jpg
ORGANIZER;CN="Michael & Ashley":MAILTO:junk@vamtam.com
END:VEVENT
BEGIN:VEVENT
DTSTART;TZID=America/New_York:20221110T030000
DTEND;TZID=America/New_York:20270901T050000
DTSTAMP:20260423T195937
CREATED:20140731T043656Z
LAST-MODIFIED:20140731T043656Z
UID:8179-1668049200-1819774800@arthurscleaning.com
SUMMARY:Creating Studio Space and Style
DESCRIPTION:Event description\n\n	\n	\n	\n\n\n\n	\n\n\n			\n	\n	\n		\n	Clany cleaning team are excited to launch the first of our summer DIY Workshops! \nOur first event is a workshop on shelves and picture hanging\, and we need a great crowd join us  to learn a thing or two at Clany HQ. With instruction from one of the professional handymen on the Clany platform\, folks will learn about drill bits and fixings\, avoiding power cables\, hanging pictures and putting up floating shelves. \n\n	\n\n\n\n			\n	\n	\n		\n	Programme Structure : \n◎ How to use power tools safely\n◎ How to drill into plasterboard & drywall to hang pictures\n◎ How to drill into masonry and brickof intellectual property
URL:https://arthurscleaning.com/classes/creating-studio-space-and-style/
LOCATION:New York Ardesia Bar\, Lexington Avenue\, New York\, NY\, 10022\, United States
CATEGORIES:Cleaning,Commercial,Workshops
ATTACH;FMTTYPE=image/jpeg:https://arthurscleaning.com/wp-content/uploads/2014/03/photo-13.jpg
ORGANIZER;CN="Michael & Ashley":MAILTO:junk@vamtam.com
END:VEVENT
BEGIN:VEVENT
DTSTART;TZID=America/New_York:20231101T040000
DTEND;TZID=America/New_York:20270728T130000
DTSTAMP:20260423T195937
CREATED:20140731T043116Z
LAST-MODIFIED:20140731T043116Z
UID:9272-1698811200-1816779600@arthurscleaning.com
SUMMARY:Tiling Workshop
DESCRIPTION:Event description\n\n	\n	\n	\n\n\n\n	\n\n\n			\n	\n	\n		\n	Clany cleaning team are excited to launch the first of our summer DIY Workshops! \nOur first event is a workshop on shelves and picture hanging\, and we need a great crowd join us  to learn a thing or two at Clany HQ. With instruction from one of the professional handymen on the Clany platform\, folks will learn about drill bits and fixings\, avoiding power cables\, hanging pictures and putting up floating shelves. \n\n	\n\n\n\n			\n	\n	\n		\n	Programme Structure : \n◎ How to use power tools safely\n◎ How to drill into plasterboard & drywall to hang pictures\n◎ How to drill into masonry and brickof intellectual property
URL:https://arthurscleaning.com/classes/tiling-workshop/
LOCATION:New York Ardesia Bar\, Lexington Avenue\, New York\, NY\, 10022\, United States
CATEGORIES:Cleaning,Design,Engineering,Workshops
ATTACH;FMTTYPE=image/jpeg:https://arthurscleaning.com/wp-content/uploads/2013/09/photo-17.jpg
ORGANIZER;CN="Michael":MAILTO:junk@vamtam.com
END:VEVENT
END:VCALENDAR